View In:
ArcGIS JavaScript
ArcGIS Online Map Viewer
ArcGIS Earth
Service Description: Prueba/World_Terrestrial_Ecosystem_Cali
Name: Prueba/World_Terrestrial_Ecosystem_Cali
Description:
Single Fused Map Cache: false
Extent:
XMin: -76.708965593
YMin: 3.2733312764021916
XMax: -76.457436105
YMax: 3.549564553402192
Spatial Reference: 4326
(4326)
LatestVCSWkid(0)
Initial Extent:
XMin: -76.708965593
YMin: 3.2733312764021916
XMax: -76.457436105
YMax: 3.549564553402192
Spatial Reference: 4326
(4326)
LatestVCSWkid(0)
Full Extent:
XMin: -76.708965593
YMin: 3.2733312764021916
XMax: -76.457436105
YMax: 3.549564553402192
Spatial Reference: 4326
(4326)
LatestVCSWkid(0)
Pixel Size X: 0.0022457990000000244
Pixel Size Y: 0.002245799000000002
Band Count: 1
Pixel Type: U16
RasterFunction Infos: {"rasterFunctionInfos": [{
"name": "None",
"description": "",
"help": ""
}]}
Mensuration Capabilities: Basic
Inspection Capabilities:
Has Histograms: true
Has Colormap: false
Has Multi Dimensions : false
Rendering Rule:
Min Scale: 0
Max Scale: 0
Copyright Text:
Service Data Type: esriImageServiceDataTypeGeneric
Min Values: 81
Max Values: 270
Mean Values: 225.81529645139918
Standard Deviation Values: 47.00845246785426
Object ID Field:
Fields:
None
Default Mosaic Method: Center
Allowed Mosaic Methods:
SortField:
SortValue: null
Mosaic Operator: First
Default Compression Quality: 75
Default Resampling Method: Bilinear
Max Record Count: null
Max Image Height: 4100
Max Image Width: 15000
Max Download Image Count: null
Max Mosaic Image Count: null
Allow Raster Function: true
Allow Copy: true
Allow Analysis: true
Allow Compute TiePoints: false
Supports Statistics: false
Supports Advanced Queries: false
Use StandardizedQueries: true
Raster Type Infos:
Name: Raster Dataset
Description: Supports all ArcGIS Raster Datasets
Help:
Has Raster Attribute Table: true
Edit Fields Info: null
Ownership Based AccessControl For Rasters: null
Child Resources:
Info
Raster Attribute Table
Histograms
Statistics
Key Properties
Legend
Raster Function Infos
Supported Operations:
Export Image
Identify
Measure
Compute Histograms
Compute Statistics Histograms
Get Samples
Compute Class Statistics
Query Boundary
Compute Pixel Location
Compute Angles
Validate
Project